BEGIN:VCALENDAR
VERSION:2.0
PRODID:-//NLP therapeut Katrien Messens - ECPv6.15.20//NONSGML v1.0//EN
CALSCALE:GREGORIAN
METHOD:PUBLISH
X-ORIGINAL-URL:https://www.nlp-therapeut-katrienmessens.com
X-WR-CALDESC:Evenementen voor NLP therapeut Katrien Messens
REFRESH-INTERVAL;VALUE=DURATION:PT1H
X-Robots-Tag:noindex
X-PUBLISHED-TTL:PT1H
BEGIN:VTIMEZONE
TZID:UTC
BEGIN:STANDARD
TZOFFSETFROM:+0000
TZOFFSETTO:+0000
TZNAME:UTC
DTSTART:20250101T000000
END:STANDARD
END:VTIMEZONE
BEGIN:VEVENT
DTSTART;TZID=UTC:20260116T223000
DTEND;TZID=UTC:20260116T223000
DTSTAMP:20260419T173549
CREATED:20251030T095810Z
LAST-MODIFIED:20260109T155411Z
UID:935-1768602600-1768602600@www.nlp-therapeut-katrienmessens.com
SUMMARY:Familieopstellingen in Het Zenhuys\, Hulst
DESCRIPTION:Er is ook de mogelijkheid om een Levens Integratie opstelling te krijgen. Meer info Uitleg methodiek – NLP therapeut Katrien Messens \n\nVraagsteller: 125\,-\nRepresentant: 25\,-\nAanmelden: Contact – NLP therapeut Katrien Messens
URL:https://www.nlp-therapeut-katrienmessens.com/kalender/familieopstellingen-in-het-zenhuys-hulst-2/
LOCATION:Het Zenhuys\, 's Gravenhofplein 4\, Hulst\, Zeeuws Vlaanderen\, 4561AJ\, Netherlands
END:VEVENT
END:VCALENDAR